BEGIN:VCALENDAR
VERSION:2.0
PRODID:-//National Housing Conference - ECPv6.15.17//NONSGML v1.0//EN
CALSCALE:GREGORIAN
METHOD:PUBLISH
X-WR-CALNAME:National Housing Conference
X-ORIGINAL-URL:https://nhc.org
X-WR-CALDESC:Events for National Housing Conference
REFRESH-INTERVAL;VALUE=DURATION:PT1H
X-Robots-Tag:noindex
X-PUBLISHED-TTL:PT1H
BEGIN:VTIMEZONE
TZID:America/New_York
BEGIN:DAYLIGHT
TZOFFSETFROM:-0500
TZOFFSETTO:-0400
TZNAME:EDT
DTSTART:20190310T070000
END:DAYLIGHT
BEGIN:STANDARD
TZOFFSETFROM:-0400
TZOFFSETTO:-0500
TZNAME:EST
DTSTART:20191103T060000
END:STANDARD
BEGIN:DAYLIGHT
TZOFFSETFROM:-0500
TZOFFSETTO:-0400
TZNAME:EDT
DTSTART:20200308T070000
END:DAYLIGHT
BEGIN:STANDARD
TZOFFSETFROM:-0400
TZOFFSETTO:-0500
TZNAME:EST
DTSTART:20201101T060000
END:STANDARD
BEGIN:DAYLIGHT
TZOFFSETFROM:-0500
TZOFFSETTO:-0400
TZNAME:EDT
DTSTART:20210314T070000
END:DAYLIGHT
BEGIN:STANDARD
TZOFFSETFROM:-0400
TZOFFSETTO:-0500
TZNAME:EST
DTSTART:20211107T060000
END:STANDARD
END:VTIMEZONE
BEGIN:VEVENT
DTSTART;VALUE=DATE:20200527
DTEND;VALUE=DATE:20200528
DTSTAMP:20260423T112448
CREATED:20200514T171800Z
LAST-MODIFIED:20201130T151518Z
UID:9450-1590537600-1590623999@nhc.org
SUMMARY:Solutions for Housing Communications 2020-Virtual Convening
DESCRIPTION:On May 27\, NHC held our Solutions for Housing Communications virtual convening. This event was originally scheduled to take place in March at the National Press Club. Given COVID-19\, NHC took necessary steps to cancel the in-person event\, but we still wanted to bring people together to take part in important discussions around messaging\, marketing and advocacy strategies to build support for affordable housing. We thank everyone for joining us via Zoom\, especially all of our speakers and special keynote speakers Grovetta Gardineer\, senior deputy comptroller for bank supervision policy for the Office of the Comptroller of the Currency (OCC)\, and Conor Dougherty\, New York Times economics reporter and author of “Golden Gates: Fighting for Housing in America.” \n\nSign up for future event updates! \nView the recap report\n2020 Keynote Speakers\n \nConor Dougherty\, New York Times economics reporter and author of “Golden Gates: Fighting for Housing in America\,” was joined by NHC’s Bob Simpson for a special Q&A keynote. \n“Golden Gates” chronicles America’s housing crisis from its West Coast epicenter\, peeling back the decades of history and economic forces that brought us here and taking readers inside the activist uprisings that have risen in tandem with housing costs.\n\n\n\nGrovetta N. Gardineer is the Senior Deputy Comptroller for Bank Supervision Policy at the Office of the Comptroller of the Currency (OCC). In this role\, Ms. Gardineer directs the formulation of policies and procedures for the supervision and examination of national banks and federal savings associations\, chairs the agency’s Committee on Bank Supervision\, and serves on the OCC’s Executive Committee. Ms. Gardineer was joined by NHC President and CEO David Dworkin to discuss OCC’s response to the COVID-19 economic crisis and implementation of the final rule on the Community Reinvestment Act.\n\n\n2020 Agenda\n\n\n\n\n\nQ&A Keynote\n\n\nWelcome Remarks and Opening Keynote\n\n\n\nModerator: Bob Simpson\, NHC\nDavid M. Dworkin\, NHC\n\n\n\n\n\n\nKeynote Speaker: Conor Dougherty\, The New York Times\nWelcome Keynote Speaker: Grovetta Gardineer\,  Office of the Comptroller of the Currency (OCC)\n\n\n\n\n\n  \n\n\n\n\nSURVIVING PR: A Gutsy New Approach to Telling Your Story\n\n\nAdvocating for vulnerable populations during a health crisis\n\n\nPowering your housing newsletter for impact and influence\n\n\n\nSpeaker: David Jeffers\, First Story\nModerator: Karianna Barr\, National Coalition Center on Homelessness and Poverty\nModerator: Andrea Nesby\, NHC \n\n\n\n\n\n\n\n\n\n\nPanelists:\nPanelists:\n\n\n\nCathy Alderman\, Colorado Coalition for the Homeless \nBrianna Gipson\, Pathways to Housing DC\n\n\n\nBarbara DiPietro\, National Health Care for the Homeless Council\nCherri Sinclair\, National Association of Affordable Housing Lenders\n\n\n\nGina Wilt\, Coalition on Homelessness and Housing in Ohio\nCaroline Valvardi\,\nOpportunity Finance Network\n\n\n\n\n\n\n\n\nCreating a COVID-19 web response from the ground up\n\n\nTelling the story: Why housing plays a central role during a health crisis\n\n\nTech Talk: Harnessing the power of digital media in 2020 and beyond\n\n\n\nModerator: Bob Simpson\, NHC\nModerator: Fred Karnas\, Richmond Memorial Health Foundation\nModerator: Allison Knapp Womack\, Enterprise Community Partners\n\n\n\n\n\n\n\nPanelists:\nPanelists:\nPanelists:\n\n\nStefan Hartwig\, Electric Pulp\nDavid Adame\, Chicanos Por La Causa\nChristina Gotuaco\, California Housing Partnership\n\n\nAaron Mentele\, Electric Pulp\nMaya Brennan\, Urban Institute\nKirsten Rokke\, Minnesota\nCoalition for the Homeless\n\n\nGina Metrakas\, NHC \nAndy McHahon\, UnitedHealthcare\nAnthony Shop\, Social Driver \n\n\n\n\n\n\n\n\n\n\n\n\nFuture of Housing News\n\n\nGoodComm: Messaging for affordable housing\n\n\n\nModerator: Miriam Axel-Lute\, Shelterforce\nModerator: Maria Plati\, Preservation of Affordable Housing \n\n\n\n\n\n\nPanelists:\nPanelists:\n\n\nAlly Schweitzer\, WAMU Affordability Desk\nMartin Mellett\, Jubilee Housing\n\n\nRoger Valdez\, Forbes\nMackenzie Price\, FrameWorks Institute\n\n\n\nDerek Madsen\, CommonBond Communities \n\n\n\n\n\n\n\n\n\nClosing Plenary: Shaping responses to withstand housing\, health and economic crises\n\n\n\nModerator: David M. Dworkin\, NHC\n\n\n\n\n\nPanelists:\n\n\nDoug Bibby\, National Multifamily Housing Council \n\n\nEd Brady\, Home Builders Institute\n\n\n\nBob Broeksmit\, Mortgage Bankers Association \n\n\nShannon McGahn\, National Association of REALTORS
URL:https://nhc.org/event/solutions-for-housing-communications-2020-virtual-convening/
LOCATION:DC
CATEGORIES:Convening
END:VEVENT
END:VCALENDAR