BEGIN:VCALENDAR
VERSION:2.0
PRODID:-//National Housing Conference - ECPv6.15.17//NONSGML v1.0//EN
CALSCALE:GREGORIAN
METHOD:PUBLISH
X-WR-CALNAME:National Housing Conference
X-ORIGINAL-URL:https://nhc.org
X-WR-CALDESC:Events for National Housing Conference
REFRESH-INTERVAL;VALUE=DURATION:PT1H
X-Robots-Tag:noindex
X-PUBLISHED-TTL:PT1H
BEGIN:VTIMEZONE
TZID:America/New_York
BEGIN:DAYLIGHT
TZOFFSETFROM:-0500
TZOFFSETTO:-0400
TZNAME:EDT
DTSTART:20180311T070000
END:DAYLIGHT
BEGIN:STANDARD
TZOFFSETFROM:-0400
TZOFFSETTO:-0500
TZNAME:EST
DTSTART:20181104T060000
END:STANDARD
BEGIN:DAYLIGHT
TZOFFSETFROM:-0500
TZOFFSETTO:-0400
TZNAME:EDT
DTSTART:20190310T070000
END:DAYLIGHT
BEGIN:STANDARD
TZOFFSETFROM:-0400
TZOFFSETTO:-0500
TZNAME:EST
DTSTART:20191103T060000
END:STANDARD
BEGIN:DAYLIGHT
TZOFFSETFROM:-0500
TZOFFSETTO:-0400
TZNAME:EDT
DTSTART:20200308T070000
END:DAYLIGHT
BEGIN:STANDARD
TZOFFSETFROM:-0400
TZOFFSETTO:-0500
TZNAME:EST
DTSTART:20201101T060000
END:STANDARD
END:VTIMEZONE
BEGIN:VEVENT
DTSTART;VALUE=DATE:20191203
DTEND;VALUE=DATE:20191205
DTSTAMP:20260425T092119
CREATED:20190322T153212Z
LAST-MODIFIED:20200821T130312Z
UID:7328-1575331200-1575503999@nhc.org
SUMMARY:2019 Solutions for Affordable Housing
DESCRIPTION:On Dec. 3\, 2019\, close to two hundred housing leaders working in housing policy\, finance and advocacy; community development; real estate; home building\, as well as government officials joined us for Solutions for Affordable Housing at the National Press Club in Washington\, D.C. The day was packed with sessions to discuss strategies to solve the most pressing policy issues that will have the most impact on how housing policy shapes up for 2020 and beyond. \nThe next day\, housers joined us for Advocacy Day to take housing to the Hill. We were honored to have Rep. Lacy Clay (D-Mo.) and Rep. Debbie Dingell (D-Mich.) share remarks on their policy priorities and the outlook for 2020 housing legislation. \nWe thank everyone who attended and a special thanks to our 2019 speakers and sponsors! \nSign up for updates for 2020 Solutions\nView the 2019 recap report\nView photos \n  \n\n			\n				\n			\n			\n				\n			\n			\n				\n			\n			\n				\n			\n			\n				\n			\n			\n				\n			\n			\n				\n			\n			\n				\n			\n			\n				\n			\n			\n				\n			\n			\n				\n			\n			\n				\n			\n			\n				\n			\n			\n				\n			\n			\n				\n			\n			\n				\n			\n			\n				\n			\n			\n				\n			\n		\n\n\n2019 Agenda\n\n\n\n\nOpening Remarks\n\n\n\nSpeaker: David M. Dworkin\, NHC\n\n\nDownload audio recording\n\n\n\n  \n\n\n\n\nRent Control and the Housing Supply Crisis\n\n\nShaping the Future of Housing Finance Reform\n\n\nThinking Bold: Policy Solutions to End Homelessness\n\n\n\nModerator: Abigail Suarez\, JPMorgan Chase & Co.\n\nModerator: Anne McCulloch\, \nHousing Partnership Equity Trust\n\nModerator: Kathyrn Monet\, \nNational Coalition for Homeless Veterans\n\n\nPanelists:\nPanelists:\nPanelists:\n\n\nPamela Hughes Patenaude\, Former HUD Deputy Secretary\nMike Calhoun\, Center for Responsible Lending\nSteve Berg\, National Alliance to End Homelessness\n\n\nMichael Spotts\, Neighborhood Fundamentals\, LLC\nCraig Phillips\, Former Counselor to the Secretary U.S. Department of the Treasury\nJemine Bryon\, HUD\n\n\nMark Willis\, NYU Furman Center for Real Estate and Urban Policy\nSteve Thomas\, Federal Home Loan Bank Chicago\nDoug Rice\, Center on Budget and Policy Priorities \n\n\n\n\n\nDownload audio recording\nView presentation slides\nDownload audio recording\nView presentation slides\nDownload audio recording\nView presentation slides\n\n\n\nAddressing Housing and Climate Impact\n\n\nClosing the Black Homeownership Gap\n\n\nPassing the Neighborhood Homes Investment Act\n\n\n\n\nModerator: Ralph Perrey\, \nTennessee Housing Development Agency\nModerator: Brigitte Morrow Killings\,\nWells Fargo\n\nModerator: Kris Siglin\, \nNational Community Stabilization Trust\n\n\nPanelists:\nPanelists:\nPanelists:\n\n\nGladys Cook\, Florida Housing Coalition\nSteve O’Connor\, Mortgage Bankers Association\nChrissi Johnson\, Quicken Loans\n\n\nJared Lang\, National Housing Trust\nAntoine Thompson\, National Association of Real Estate Brokers\n\nMatt Josephs\, \nLocal Initiatives Support Corporation\n\n\nRosemarie Sabatino\, Montgomery County Green Bank\nCindy Waldron\, Freddie Mac\nBuzz Roberts\, National Association of Affordable Housing Lenders\n\n\nDownload audio recording\nView presentation slides\nDownload audio recording\nView presentation slides\nDownload audio recording\nView presentation slides\n\n\n\n\n\n\n\n\nAdvocacy Day\n\n\n\n\nSpeakers: \nDavid M. Dworkin\, NHC \nAnne McCulloch\,Housing Partnership Equity Trust \nMegan Booth\, National Association of REALTORS \nRep. Lacy Clay (D-Mo.) \nRep. Debbie Dingell (D-Mich.)\n\n\n\nThank you to our 2019 Sponsors!\n  \n\n\n\n\nPresenting\n\n\n\n\n\nPremier\n\n \n\n\n\nSelect\n\n\n\n\n\nNetworking Reception\n\n\n\n\n\nOpening Luncheon\n\n\n\n\nAdvocacy Day Breakfast\n\n\n\n\nAdvocacy Day\n\n\n\n\nBreak\n\n\n\n\n 
URL:https://nhc.org/event/2019-solutions-for-affordable-housing/
LOCATION:National Press Club\, 529 14th St NW\, Washington\, DC\, 20045\, United States
CATEGORIES:Convening
ATTACH;FMTTYPE=image/jpeg:https://nhc.org/wp-content/uploads/2019/03/NHC8708-1392-1.jpg
END:VEVENT
END:VCALENDAR