BEGIN:VCALENDAR
VERSION:2.0
PRODID:-//National Housing Conference - ECPv5.3.2.1//NONSGML v1.0//EN
CALSCALE:GREGORIAN
METHOD:PUBLISH
X-WR-CALNAME:National Housing Conference
X-ORIGINAL-URL:https://nhc.org
X-WR-CALDESC:Events for National Housing Conference
BEGIN:VTIMEZONE
TZID:America/New_York
BEGIN:DAYLIGHT
TZOFFSETFROM:-0500
TZOFFSETTO:-0400
TZNAME:EDT
DTSTART:20210314T070000
END:DAYLIGHT
BEGIN:STANDARD
TZOFFSETFROM:-0400
TZOFFSETTO:-0500
TZNAME:EST
DTSTART:20211107T060000
END:STANDARD
END:VTIMEZONE
BEGIN:VEVENT
DTSTART;VALUE=DATE:20211117
DTEND;VALUE=DATE:20211118
DTSTAMP:20210514T200440
CREATED:20210113T172308Z
LAST-MODIFIED:20210514T174145Z
UID:10726-1637107200-1637193599@nhc.org
SUMMARY:Solutions for Affordable Housing 2021
DESCRIPTION:Save the date for NHC’s Solutions for Affordable Housing convening! This event convenes policymakers and advocates to explore bipartisan policy solutions to address housing’s most pressing challenges. Speakers include leaders in the administration and Congress\, as well as nationally recognized housing and community development experts. \nSign up for event updates\nView 2020 Solutions event details
URL:https://nhc.org/event/solutions-for-affordable-housing-2021/
CATEGORIES:Convening
END:VEVENT
END:VCALENDAR