BEGIN:VCALENDAR
VERSION:2.0
PRODID:-//National Housing Conference - ECPv5.6.0//NONSGML v1.0//EN
CALSCALE:GREGORIAN
METHOD:PUBLISH
X-WR-CALNAME:National Housing Conference
X-ORIGINAL-URL:https://nhc.org
X-WR-CALDESC:Events for National Housing Conference
BEGIN:VTIMEZONE
TZID:America/New_York
BEGIN:DAYLIGHT
TZOFFSETFROM:-0500
TZOFFSETTO:-0400
TZNAME:EDT
DTSTART:20180311T070000
END:DAYLIGHT
BEGIN:STANDARD
TZOFFSETFROM:-0400
TZOFFSETTO:-0500
TZNAME:EST
DTSTART:20181104T060000
END:STANDARD
END:VTIMEZONE
BEGIN:VEVENT
DTSTART;VALUE=DATE:20180322
DTEND;VALUE=DATE:20180323
DTSTAMP:20210615T065250
CREATED:20180309T165849Z
LAST-MODIFIED:20180326T170532Z
UID:6537-1521676800-1521763199@nhc.org
SUMMARY:Explore economic mobility strategies for HUD-subsidized housing residents
DESCRIPTION:On March 22\, Sherry Riva\, executive director of Compass Working Capital\, discussed her work on the Family Self-Sufficiency program and how public housing agencies and private owners of multifamily assisted housing are seeing significant outcomes from the program\, and Adrianne Todman\, CEO of the National Association of Housing and Redevelopment Officials\, discussed other strategies that public housing agencies are implementing to empower its residents to become more self-sufficient.\n\n \n  \nPresenters\nSherry Riva\, executive director of Compass Working Capital\nAdrianne Todman\, CEO of the National Association of Housing and Redevelopment Officials (NAHRO) \n\nResources\nDownload Compass Working Capital slides\nDownload NHC & NAHRO slides
URL:https://nhc.org/event/explore-economic-mobility-strategies-for-hud-subsidized-housing-residents/
CATEGORIES:Policy,Webinar
END:VEVENT
END:VCALENDAR